{"text_format":"1","workbook":"xlsx","n_sheets":2,"sheets":["القائمة","الجذاذات"],"not_rendered":{"charts":0,"images":1,"macros":1,"external_links":0,"defined_names":1,"comments":0,"pivot_tables":0},"unopened":[],"bounds":{"document_bytes":16777216,"sheet_cells":100000,"rows_first":2000,"rows_last":500,"rows_between":2000,"halvings":0,"cell_chars":16384,"cell_head_chars":4096},"cells_cut":0,"cells_raw":0,"read":"whole","date_system":"1900"}

{"sheet":"القائمة","index":0,"n_rows":146,"n_cols":8,"rows_kept":146,"cut":false,"hidden":false,"merged":[[3,2,3,3],[3,6,3,7],[1,2,1,3],[1,6,1,7],[2,2,2,3],[2,6,2,7]]}
[]
[]
[]
[]
[]
["الرقم","اللقب","الاسم","تاريخ الازدياد","مكان الإزدياد","اسم الأب","اسم ولقب الأم","رقم  القيد"]
[1]
[2]
[3]
[4]
[5]
[6]
[7]
[8]
[9]
[10]
[11]
[12]
[13]
[14]
[15]
[16]
[17]
[18]
[19]
[20]
[21]
[22]
[23]
[24]
[25]
[26]
[27]
[28]
[29]
[30]
[31]
[32]
[33]
[34]
[35]
[36]
[37]
[38]
[39]
[40]
[41]
[42]
[43]
[44]
[45]
[46]
[47]
[48]
[49]
[50]
[51]
[52]
[53]
[54]
[55]
[56]
[57]
[58]
[59]
[60]
[61]
[62]
[63]
[64]
[65]
[66]
[67]
[68]
[69]
[70]
[71]
[72]
[73]
[74]
[75]
[76]
[77]
[78]
[79]
[80]
[81]
[82]
[83]
[84]
[85]
[86]
[87]
[88]
[89]
[90]
[91]
[92]
[93]
[94]
[95]
[96]
[97]
[98]
[99]
[100]
[101]
[102]
[103]
[104]
[105]
[106]
[107]
[108]
[109]
[110]
[111]
[112]
[113]
[114]
[115]
[116]
[117]
[118]
[119]
[120]
[121]
[122]
[123]
[124]
[125]
[126]
[127]
[128]
[129]
[130]
[131]
[132]
[133]
[134]
[135]
[136]
[137]
[138]
[139]
[140]

{"sheet":"الجذاذات","index":1,"n_rows":27,"n_cols":18,"rows_kept":27,"cut":false,"hidden":false,"merged":[[18,0,18,2],[18,4,18,6],[18,8,18,10],[19,0,19,2],[19,4,19,6],[19,8,19,10],[9,0,9,2],[9,4,9,6],[9,8,9,10],[10,0,10,2],[10,4,10,6],[10,8,10,10],[0,0,0,2],[0,4,0,6],[0,8,0,10],[1,0,1,2],[1,4,1,6],[1,8,1,10]]}
[{"$f":"VLOOKUP(الجذاذات!$R$2,القائمة!$A$6:$H$146,2,0)","v":0},null,null,null,{"$f":"VLOOKUP(الجذاذات!$R$3,القائمة!$A$6:$H$146,2,0)","v":0},null,null,null,{"$f":"VLOOKUP(الجذاذات!$R$4,القائمة!$A$6:$H$146,2,0)","v":0}]
[{"$f":"VLOOKUP(الجذاذات!$R$2,القائمة!$A$6:$H$146,3,0)","v":0},null,null,null,{"$f":"VLOOKUP(الجذاذات!$R$3,القائمة!$A$6:$H$146,3,0)","v":0},null,null,null,{"$f":"VLOOKUP(الجذاذات!$R$4,القائمة!$A$6:$H$146,3,0)","v":0},null,null,null,null,null,null,null,null,{"$f":"N3","v":1}]
[null,"تاريـخ ومكان الازدياد",null,null,null,"تاريـخ ومكان الازدياد",null,null,null,"تاريـخ ومكان الازدياد",null,null,null,1,null,null,null,{"$f":"$N$3+1","v":2}]
[null,{"$f":"VLOOKUP(الجذاذات!$R$2,القائمة!$A$6:$H$146,4,0)","v":"00:00:00"},null,null,null,{"$f":"VLOOKUP(الجذاذات!$R$3,القائمة!$A$6:$H$146,4,0)","v":"00:00:00"},null,null,null,{"$f":"VLOOKUP(الجذاذات!$R$4,القائمة!$A$6:$H$146,4,0)","v":"00:00:00"},null,null,null,null,null,null,null,{"$f":"$N$3+2","v":3}]
[null,{"$f":"VLOOKUP(الجذاذات!$R$2,القائمة!$A$6:$H$146,5,0)","v":"00:00:00"},null,null,null,{"$f":"VLOOKUP(الجذاذات!$R$3,القائمة!$A$6:$H$146,5,0)","v":"00:00:00"},null,null,null,{"$f":"VLOOKUP(الجذاذات!$R$4,القائمة!$A$6:$H$146,5,0)","v":"00:00:00"},null,null,null,null,null,null,null,{"$f":"$N$3+3","v":4}]
[null,"اسما الأبوين",null,null,null,"اسما الأبوين",null,null,null,"اسما الأبوين",null,null,null,null,null,null,null,{"$f":"$N$3+4","v":5}]
[null,{"$f":"VLOOKUP(الجذاذات!$R$2,القائمة!$A$6:$H$146,6,0)","v":0},null,null,null,{"$f":"VLOOKUP(الجذاذات!$R$3,القائمة!$A$6:$H$146,6,0)","v":0},null,null,null,{"$f":"VLOOKUP(الجذاذات!$R$4,القائمة!$A$6:$H$146,6,0)","v":0},null,null,null,null,null,null,null,{"$f":"$N$3+5","v":6}]
[null,{"$f":"VLOOKUP(الجذاذات!$R$2,القائمة!$A$6:$H$146,7,0)","v":0},null,null,null,{"$f":"VLOOKUP(الجذاذات!$R$3,القائمة!$A$6:$H$146,7,0)","v":0},null,null,null,{"$f":"VLOOKUP(الجذاذات!$R$4,القائمة!$A$6:$H$146,7,0)","v":0},null,null,null,null,null,null,null,{"$f":"$N$3+6","v":7}]
[null,{"$f":"VLOOKUP(الجذاذات!$R$2,القائمة!$A$6:$H$146,8,0)","v":0},null,null,null,{"$f":"VLOOKUP(الجذاذات!$R$3,القائمة!$A$6:$H$146,8,0)","v":0},null,null,null,{"$f":"VLOOKUP(الجذاذات!$R$4,القائمة!$A$6:$H$146,8,0)","v":0},null,null,null,null,null,null,null,{"$f":"$N$3+7","v":8}]
[{"$f":"VLOOKUP(الجذاذات!$R$5,القائمة!$A$6:$H$146,2,0)","v":0},null,null,null,{"$f":"VLOOKUP(الجذاذات!$R$6,القائمة!$A$6:$H$146,2,0)","v":0},null,null,null,{"$f":"VLOOKUP(الجذاذات!$R$7,القائمة!$A$6:$H$146,2,0)","v":0},null,null,null,null,null,null,null,null,{"$f":"$N$3+8","v":9}]
[{"$f":"VLOOKUP(الجذاذات!$R$5,القائمة!$A$6:$H$146,3,0)","v":0},null,null,null,{"$f":"VLOOKUP(الجذاذات!$R$6,القائمة!$A$6:$H$146,3,0)","v":0},null,null,null,{"$f":"VLOOKUP(الجذاذات!$R$7,القائمة!$A$6:$H$146,3,0)","v":0}]
[null,"تاريـخ ومكان الازدياد",null,null,null,"تاريـخ ومكان الازدياد",null,null,null,"تاريـخ ومكان الازدياد"]
[null,{"$f":"VLOOKUP(الجذاذات!$R$5,القائمة!$A$6:$H$146,4,0)","v":"00:00:00"},null,null,null,{"$f":"VLOOKUP(الجذاذات!$R$6,القائمة!$A$6:$H$146,4,0)","v":"00:00:00"},null,null,null,{"$f":"VLOOKUP(الجذاذات!$R$6,القائمة!$A$6:$H$146,4,0)","v":"00:00:00"}]
[null,{"$f":"VLOOKUP(الجذاذات!$R$5,القائمة!$A$6:$H$146,5,0)","v":"00:00:00"},null,null,null,{"$f":"VLOOKUP(الجذاذات!$R$6,القائمة!$A$6:$H$146,5,0)","v":"00:00:00"},null,null,null,{"$f":"VLOOKUP(الجذاذات!$R$7,القائمة!$A$6:$H$146,5,0)","v":"00:00:00"}]
[null,"اسما الأبوين",null,null,null,"اسما الأبوين",null,null,null,"اسما الأبوين"]
[null,{"$f":"VLOOKUP(الجذاذات!$R$5,القائمة!$A$6:$H$146,6,0)","v":0},null,null,null,{"$f":"VLOOKUP(الجذاذات!$R$6,القائمة!$A$6:$H$146,6,0)","v":0},null,null,null,{"$f":"VLOOKUP(الجذاذات!$R$7,القائمة!$A$6:$H$146,6,0)","v":0}]
[null,{"$f":"VLOOKUP(الجذاذات!$R$5,القائمة!$A$6:$H$146,7,0)","v":0},null,null,null,{"$f":"VLOOKUP(الجذاذات!$R$6,القائمة!$A$6:$H$146,7,0)","v":0},null,null,null,{"$f":"VLOOKUP(الجذاذات!$R$7,القائمة!$A$6:$H$146,7,0)","v":0}]
[null,{"$f":"VLOOKUP(الجذاذات!$R$5,القائمة!$A$6:$H$146,8,0)","v":0},null,null,null,{"$f":"VLOOKUP(الجذاذات!$R$6,القائمة!$A$6:$H$146,8,0)","v":0},null,null,null,{"$f":"VLOOKUP(الجذاذات!$R$7,القائمة!$A$6:$H$146,8,0)","v":0}]
[{"$f":"VLOOKUP(الجذاذات!$R$8,القائمة!$A$6:$H$146,2,0)","v":0},null,null,null,{"$f":"VLOOKUP(الجذاذات!$R$9,القائمة!$A$6:$H$146,2,0)","v":0},null,null,null,{"$f":"VLOOKUP(الجذاذات!$R$10,القائمة!$A$6:$H$146,2,0)","v":0}]
[{"$f":"VLOOKUP(الجذاذات!$R$8,القائمة!$A$6:$H$146,3,0)","v":0},null,null,null,{"$f":"VLOOKUP(الجذاذات!$R$9,القائمة!$A$6:$H$146,3,0)","v":0},null,null,null,{"$f":"VLOOKUP(الجذاذات!$R$10,القائمة!$A$6:$H$146,3,0)","v":0}]
[null,"تاريـخ ومكان الازدياد",null,null,null,"تاريـخ ومكان الازدياد",null,null,null,"تاريـخ ومكان الازدياد"]
[null,{"$f":"VLOOKUP(الجذاذات!$R$8,القائمة!$A$6:$H$146,4,0)","v":"00:00:00"},null,null,null,{"$f":"VLOOKUP(الجذاذات!$R$9,القائمة!$A$6:$H$146,4,0)","v":"00:00:00"},null,null,null,{"$f":"VLOOKUP(الجذاذات!$R$10,القائمة!$A$6:$H$146,4,0)","v":"00:00:00"}]
[null,{"$f":"VLOOKUP(الجذاذات!$R$8,القائمة!$A$6:$H$146,5,0)","v":"00:00:00"},null,null,null,{"$f":"VLOOKUP(الجذاذات!$R$9,القائمة!$A$6:$H$146,5,0)","v":"00:00:00"},null,null,null,{"$f":"VLOOKUP(الجذاذات!$R$10,القائمة!$A$6:$H$146,5,0)","v":"00:00:00"}]
[null,"اسما الأبوين",null,null,null,"اسما الأبوين",null,null,null,"اسما الأبوين"]
[null,{"$f":"VLOOKUP(الجذاذات!$R$8,القائمة!$A$6:$H$146,6,0)","v":0},null,null,null,{"$f":"VLOOKUP(الجذاذات!$R$9,القائمة!$A$6:$H$146,6,0)","v":0},null,null,null,{"$f":"VLOOKUP(الجذاذات!$R$10,القائمة!$A$6:$H$146,6,0)","v":0}]
[null,{"$f":"VLOOKUP(الجذاذات!$R$8,القائمة!$A$6:$H$146,7,0)","v":0},null,null,null,{"$f":"VLOOKUP(الجذاذات!$R$9,القائمة!$A$6:$H$146,7,0)","v":0},null,null,null,{"$f":"VLOOKUP(الجذاذات!$R$10,القائمة!$A$6:$H$146,7,0)","v":0}]
[null,{"$f":"VLOOKUP(الجذاذات!$R$8,القائمة!$A$6:$H$146,8,0)","v":0},null,null,null,{"$f":"VLOOKUP(الجذاذات!$R$9,القائمة!$A$6:$H$146,8,0)","v":0},null,null,null,{"$f":"VLOOKUP(الجذاذات!$R$10,القائمة!$A$6:$H$146,8,0)","v":0}]